BEGIN:VCALENDAR
VERSION:2.0
PRODID:-//Easts Leagues Club - ECPv6.15.20//NONSGML v1.0//EN
CALSCALE:GREGORIAN
METHOD:PUBLISH
X-ORIGINAL-URL:https://eastsleagues.com.au
X-WR-CALDESC:Events for Easts Leagues Club
REFRESH-INTERVAL;VALUE=DURATION:PT1H
X-Robots-Tag:noindex
X-PUBLISHED-TTL:PT1H
BEGIN:VTIMEZONE
TZID:Australia/Brisbane
BEGIN:STANDARD
TZOFFSETFROM:+1000
TZOFFSETTO:+1000
TZNAME:AEST
DTSTART:20250101T000000
END:STANDARD
END:VTIMEZONE
BEGIN:VEVENT
DTSTART;VALUE=DATE:20260126
DTEND;VALUE=DATE:20260127
DTSTAMP:20260421T234643
CREATED:20260114T014051Z
LAST-MODIFIED:20260119T011336Z
UID:10014384-1769385600-1769471999@eastsleagues.com.au
SUMMARY:Australia Day @ Easts
DESCRIPTION:Come to Easts for your Australia Day long weekend\, enjoy our delicious specials and live DJ entertainment. \nWith LIVE SPORTS on the BIG SCREEN in The Cross Bar\, the always entertaining Australian Open Tennis playing on multiple TVs & specials\, fun activities and electric vibes\, there’s no better place to spend your Australia Day!
URL:https://eastsleagues.com.au/event/auatralia-day-2026/
CATEGORIES:Entertainment
END:VEVENT
BEGIN:VEVENT
DTSTART;TZID=Australia/Brisbane:20260126T190000
DTEND;TZID=Australia/Brisbane:20260126T210000
DTSTAMP:20260421T234643
CREATED:20260124T032420Z
LAST-MODIFIED:20260124T032420Z
UID:10014393-1769454000-1769461200@eastsleagues.com.au
SUMMARY:Australia Day Trivia Night
DESCRIPTION:
URL:https://eastsleagues.com.au/event/australia-day-trivia-night/
CATEGORIES:Entertainment
ATTACH;FMTTYPE=image/png:https://eastsleagues.com.au/wp-content/uploads/2026/01/Untitled-design-2024-01-22T160718.873.png
END:VEVENT
BEGIN:VEVENT
DTSTART;TZID=Australia/Brisbane:20260421T190000
DTEND;TZID=Australia/Brisbane:20260421T210000
DTSTAMP:20260421T234643
CREATED:20241210T045513Z
LAST-MODIFIED:20260105T010435Z
UID:10013800-1776798000-1776805200@eastsleagues.com.au
SUMMARY:Tuesday Trivia
DESCRIPTION:
URL:https://eastsleagues.com.au/event/tuesday-trivia-2/2026-04-21/
CATEGORIES:Entertainment
ATTACH;FMTTYPE=image/png:https://eastsleagues.com.au/wp-content/uploads/2024/03/The-Cross-Bar-Tuesday-Trivia-Night_1920x1080.png
END:VEVENT
END:VCALENDAR