BEGIN:VCALENDAR
VERSION:2.0
PRODID:-//Easts Leagues Club - ECPv6.15.20//NONSGML v1.0//EN
CALSCALE:GREGORIAN
METHOD:PUBLISH
X-ORIGINAL-URL:https://eastsleagues.com.au
X-WR-CALDESC:Events for Easts Leagues Club
REFRESH-INTERVAL;VALUE=DURATION:PT1H
X-Robots-Tag:noindex
X-PUBLISHED-TTL:PT1H
BEGIN:VTIMEZONE
TZID:Australia/Brisbane
BEGIN:STANDARD
TZOFFSETFROM:+1000
TZOFFSETTO:+1000
TZNAME:AEST
DTSTART:20250101T000000
END:STANDARD
END:VTIMEZONE
BEGIN:VEVENT
DTSTART;TZID=Australia/Brisbane:20260627T183000
DTEND;TZID=Australia/Brisbane:20260627T213000
DTSTAMP:20260425T031302
CREATED:20260113T003951Z
LAST-MODIFIED:20260305T034130Z
UID:10014380-1782585000-1782595800@eastsleagues.com.au
SUMMARY:Ben Dawson
DESCRIPTION:The Lounge
URL:https://eastsleagues.com.au/event/ben-dawson/
CATEGORIES:Live Music
ATTACH;FMTTYPE=image/jpeg:https://eastsleagues.com.au/wp-content/uploads/2026/01/Ben-Dawson.jpg
END:VEVENT
END:VCALENDAR