BEGIN:VCALENDAR
VERSION:2.0
PRODID:-//Easts Leagues Club - ECPv6.15.20//NONSGML v1.0//EN
CALSCALE:GREGORIAN
METHOD:PUBLISH
X-WR-CALNAME:Easts Leagues Club
X-ORIGINAL-URL:https://eastsleagues.com.au
X-WR-CALDESC:Events for Easts Leagues Club
REFRESH-INTERVAL;VALUE=DURATION:PT1H
X-Robots-Tag:noindex
X-PUBLISHED-TTL:PT1H
BEGIN:VTIMEZONE
TZID:Australia/Brisbane
BEGIN:STANDARD
TZOFFSETFROM:+1000
TZOFFSETTO:+1000
TZNAME:AEST
DTSTART:20250101T000000
END:STANDARD
END:VTIMEZONE
BEGIN:VEVENT
DTSTART;TZID=Australia/Brisbane:20260223T103000
DTEND;TZID=Australia/Brisbane:20260223T123000
DTSTAMP:20260424T210011
CREATED:20260108T044927Z
LAST-MODIFIED:20260108T044927Z
UID:10014099-1771842600-1771849800@eastsleagues.com.au
SUMMARY:Paully
DESCRIPTION:The Lounge
URL:https://eastsleagues.com.au/event/paully/
CATEGORIES:Live Music
ATTACH;FMTTYPE=image/webp:https://eastsleagues.com.au/wp-content/uploads/2026/01/paully-brisbane-soloist-wedding-singer-dj-1024x683-1.webp
END:VEVENT
BEGIN:VEVENT
DTSTART;TZID=Australia/Brisbane:20260224T173000
DTEND;TZID=Australia/Brisbane:20260224T203000
DTSTAMP:20260424T210011
CREATED:20250411T073658Z
LAST-MODIFIED:20250411T074036Z
UID:10012266-1771954200-1771965000@eastsleagues.com.au
SUMMARY:Tuesday Night Pizza Palooza
DESCRIPTION:Every Tuesday Night in the Brasserie! \nAvailable from 5:30pm – 8:30pm \n\n2 Pizzas & a mixed salad for $35 (Members price)\n1 Pizza for $17.50 (Members price)\n\nGluten free options + $4.00
URL:https://eastsleagues.com.au/event/tuesday-night-pizza-palooza/2026-02-24/
CATEGORIES:Food Promotions
ATTACH;FMTTYPE=image/jpeg:https://eastsleagues.com.au/wp-content/uploads/2025/04/Easts-Tuesday-Pizza-Night_POS.jpg
END:VEVENT
BEGIN:VEVENT
DTSTART;TZID=Australia/Brisbane:20260224T190000
DTEND;TZID=Australia/Brisbane:20260224T210000
DTSTAMP:20260424T210011
CREATED:20241210T045513Z
LAST-MODIFIED:20260105T010435Z
UID:10013792-1771959600-1771966800@eastsleagues.com.au
SUMMARY:Tuesday Trivia
DESCRIPTION:
URL:https://eastsleagues.com.au/event/tuesday-trivia-2/2026-02-24/
CATEGORIES:Entertainment
ATTACH;FMTTYPE=image/png:https://eastsleagues.com.au/wp-content/uploads/2024/03/The-Cross-Bar-Tuesday-Trivia-Night_1920x1080.png
END:VEVENT
BEGIN:VEVENT
DTSTART;TZID=Australia/Brisbane:20260225T173000
DTEND;TZID=Australia/Brisbane:20260225T203000
DTSTAMP:20260424T210011
CREATED:20230831T010700Z
LAST-MODIFIED:20250414T073925Z
UID:10009981-1772040600-1772051400@eastsleagues.com.au
SUMMARY:Rib Night
DESCRIPTION:Every Wednesday in the Brasserie! \n$18.90 – Bog Ribs Special served with chips\, corn on the cab on coleslaw \n$43.90 – Two Meal Special with beer\, wine or soft drink
URL:https://eastsleagues.com.au/event/rib-night/2026-02-25/
CATEGORIES:Food Promotions
ATTACH;FMTTYPE=image/png:https://eastsleagues.com.au/wp-content/uploads/2022/03/Wednesday-Rib-Night-1.png
END:VEVENT
BEGIN:VEVENT
DTSTART;TZID=Australia/Brisbane:20260226T173000
DTEND;TZID=Australia/Brisbane:20260226T203000
DTSTAMP:20260424T210011
CREATED:20230831T011113Z
LAST-MODIFIED:20250414T074059Z
UID:10010114-1772127000-1772137800@eastsleagues.com.au
SUMMARY:Parmy Night
DESCRIPTION:Every Thursday in the Brasserie! \nAll served with a side of fries & garden salad. Available form 5:30pm – 8:30pm \n\n$16.50 Classic Chicken Schnitzel \n$17.90 Chicken Parmi\n$18.90 Mexican Parmi (Topped with Tomato Salsa\, Ham\, Cheese & Jalapenos)\n$18.90 BBQ Parmi (Topped with Onion rings & BBQ Sauce)\n\nNon members add $3
URL:https://eastsleagues.com.au/event/parmy-night/2026-02-26/
CATEGORIES:Food Promotions
ATTACH;FMTTYPE=image/png:https://eastsleagues.com.au/wp-content/uploads/2020/09/Thurs-Parmi-Night-1.png
END:VEVENT
BEGIN:VEVENT
DTSTART;TZID=Australia/Brisbane:20260226T200000
DTEND;TZID=Australia/Brisbane:20260226T203000
DTSTAMP:20260424T210011
CREATED:20260105T010154Z
LAST-MODIFIED:20260105T010154Z
UID:10013724-1772136000-1772137800@eastsleagues.com.au
SUMMARY:Members Birthday Draw
DESCRIPTION:Swipe between 5.00pm – 8.00pm for your birthday entry ticket.\n8.15pm – $500 Cash\n8.30pm – $500 Cash
URL:https://eastsleagues.com.au/event/december-birthday-draw-2/2026-02-26/
CATEGORIES:Promotions
ATTACH;FMTTYPE=image/jpeg:https://eastsleagues.com.au/wp-content/uploads/2023/05/Monthly-scaled.jpg
END:VEVENT
BEGIN:VEVENT
DTSTART;TZID=Australia/Brisbane:20260227T183000
DTEND;TZID=Australia/Brisbane:20260227T213000
DTSTAMP:20260424T210011
CREATED:20260106T011957Z
LAST-MODIFIED:20260106T011957Z
UID:10014061-1772217000-1772227800@eastsleagues.com.au
SUMMARY:Millie Atlas
DESCRIPTION:The Lounge
URL:https://eastsleagues.com.au/event/millie-atlas-3/
CATEGORIES:Live Music
ATTACH;FMTTYPE=image/avif:https://eastsleagues.com.au/wp-content/uploads/2025/06/ecd70a7f-d7a3-4357-8193-714dae869ba6.avif
END:VEVENT
BEGIN:VEVENT
DTSTART;TZID=Australia/Brisbane:20260228T183000
DTEND;TZID=Australia/Brisbane:20260228T213000
DTSTAMP:20260424T210011
CREATED:20260106T012650Z
LAST-MODIFIED:20260106T012650Z
UID:10014062-1772303400-1772314200@eastsleagues.com.au
SUMMARY:Nik Phillips
DESCRIPTION:The Lounge
URL:https://eastsleagues.com.au/event/nik-phillips-3/
CATEGORIES:Live Music
ATTACH;FMTTYPE=image/jpeg:https://eastsleagues.com.au/wp-content/uploads/2023/09/Nik-Phillips.jpg
END:VEVENT
BEGIN:VEVENT
DTSTART;TZID=Australia/Brisbane:20260301T173000
DTEND;TZID=Australia/Brisbane:20260301T203000
DTSTAMP:20260424T210011
CREATED:20200824T223801Z
LAST-MODIFIED:20230901T021600Z
UID:10009277-1772386200-1772397000@eastsleagues.com.au
SUMMARY:SUNDAY CARVERY NIGHT
DESCRIPTION:
URL:https://eastsleagues.com.au/event/sunday-carvery-night/2026-03-01/
CATEGORIES:Food Promotions
ATTACH;FMTTYPE=image/jpeg:https://eastsleagues.com.au/wp-content/uploads/2020/08/istockphoto-157582696-612x612-1.jpg
END:VEVENT
END:VCALENDAR