BEGIN:VCALENDAR
VERSION:2.0
PRODID:-//Easts Leagues Club - ECPv6.15.20//NONSGML v1.0//EN
CALSCALE:GREGORIAN
METHOD:PUBLISH
X-WR-CALNAME:Easts Leagues Club
X-ORIGINAL-URL:https://eastsleagues.com.au
X-WR-CALDESC:Events for Easts Leagues Club
REFRESH-INTERVAL;VALUE=DURATION:PT1H
X-Robots-Tag:noindex
X-PUBLISHED-TTL:PT1H
BEGIN:VTIMEZONE
TZID:Australia/Brisbane
BEGIN:STANDARD
TZOFFSETFROM:+1000
TZOFFSETTO:+1000
TZNAME:AEST
DTSTART:20250101T000000
END:STANDARD
END:VTIMEZONE
BEGIN:VEVENT
DTSTART;TZID=Australia/Brisbane:20260302T103000
DTEND;TZID=Australia/Brisbane:20260302T123000
DTSTAMP:20260426T010610
CREATED:20260108T045232Z
LAST-MODIFIED:20260108T045232Z
UID:10014100-1772447400-1772454600@eastsleagues.com.au
SUMMARY:Jared Alexander
DESCRIPTION:The Lounge
URL:https://eastsleagues.com.au/event/jared-alexander-3/
CATEGORIES:Live Music
ATTACH;FMTTYPE=image/png:https://eastsleagues.com.au/wp-content/uploads/2025/07/4.png
END:VEVENT
BEGIN:VEVENT
DTSTART;TZID=Australia/Brisbane:20260303T173000
DTEND;TZID=Australia/Brisbane:20260303T203000
DTSTAMP:20260426T010610
CREATED:20250411T073658Z
LAST-MODIFIED:20250411T074036Z
UID:10012267-1772559000-1772569800@eastsleagues.com.au
SUMMARY:Tuesday Night Pizza Palooza
DESCRIPTION:Every Tuesday Night in the Brasserie! \nAvailable from 5:30pm – 8:30pm \n\n2 Pizzas & a mixed salad for $35 (Members price)\n1 Pizza for $17.50 (Members price)\n\nGluten free options + $4.00
URL:https://eastsleagues.com.au/event/tuesday-night-pizza-palooza/2026-03-03/
CATEGORIES:Food Promotions
ATTACH;FMTTYPE=image/jpeg:https://eastsleagues.com.au/wp-content/uploads/2025/04/Easts-Tuesday-Pizza-Night_POS.jpg
END:VEVENT
BEGIN:VEVENT
DTSTART;TZID=Australia/Brisbane:20260303T190000
DTEND;TZID=Australia/Brisbane:20260303T210000
DTSTAMP:20260426T010610
CREATED:20241210T045513Z
LAST-MODIFIED:20260105T010435Z
UID:10013793-1772564400-1772571600@eastsleagues.com.au
SUMMARY:Tuesday Trivia
DESCRIPTION:
URL:https://eastsleagues.com.au/event/tuesday-trivia-2/2026-03-03/
CATEGORIES:Entertainment
ATTACH;FMTTYPE=image/png:https://eastsleagues.com.au/wp-content/uploads/2024/03/The-Cross-Bar-Tuesday-Trivia-Night_1920x1080.png
END:VEVENT
BEGIN:VEVENT
DTSTART;TZID=Australia/Brisbane:20260304T173000
DTEND;TZID=Australia/Brisbane:20260304T203000
DTSTAMP:20260426T010610
CREATED:20230831T010700Z
LAST-MODIFIED:20250414T073925Z
UID:10009982-1772645400-1772656200@eastsleagues.com.au
SUMMARY:Rib Night
DESCRIPTION:Every Wednesday in the Brasserie! \n$18.90 – Bog Ribs Special served with chips\, corn on the cab on coleslaw \n$43.90 – Two Meal Special with beer\, wine or soft drink
URL:https://eastsleagues.com.au/event/rib-night/2026-03-04/
CATEGORIES:Food Promotions
ATTACH;FMTTYPE=image/png:https://eastsleagues.com.au/wp-content/uploads/2022/03/Wednesday-Rib-Night-1.png
END:VEVENT
BEGIN:VEVENT
DTSTART;TZID=Australia/Brisbane:20260305T173000
DTEND;TZID=Australia/Brisbane:20260305T203000
DTSTAMP:20260426T010610
CREATED:20230831T011113Z
LAST-MODIFIED:20250414T074059Z
UID:10010115-1772731800-1772742600@eastsleagues.com.au
SUMMARY:Parmy Night
DESCRIPTION:Every Thursday in the Brasserie! \nAll served with a side of fries & garden salad. Available form 5:30pm – 8:30pm \n\n$16.50 Classic Chicken Schnitzel \n$17.90 Chicken Parmi\n$18.90 Mexican Parmi (Topped with Tomato Salsa\, Ham\, Cheese & Jalapenos)\n$18.90 BBQ Parmi (Topped with Onion rings & BBQ Sauce)\n\nNon members add $3
URL:https://eastsleagues.com.au/event/parmy-night/2026-03-05/
CATEGORIES:Food Promotions
ATTACH;FMTTYPE=image/png:https://eastsleagues.com.au/wp-content/uploads/2020/09/Thurs-Parmi-Night-1.png
END:VEVENT
BEGIN:VEVENT
DTSTART;TZID=Australia/Brisbane:20260306T190000
DTEND;TZID=Australia/Brisbane:20260306T213000
DTSTAMP:20260426T010610
CREATED:20260106T013542Z
LAST-MODIFIED:20260305T032709Z
UID:10014063-1772823600-1772832600@eastsleagues.com.au
SUMMARY:Retro Rock Band
DESCRIPTION:The Lounge \n\n 
URL:https://eastsleagues.com.au/event/retro-rock-band/
CATEGORIES:Live Music
ATTACH;FMTTYPE=image/jpeg:https://eastsleagues.com.au/wp-content/uploads/2026/01/476611831_548827644844798_3385342472157491797_n.jpg
END:VEVENT
BEGIN:VEVENT
DTSTART;TZID=Australia/Brisbane:20260307T183000
DTEND;TZID=Australia/Brisbane:20260307T213000
DTSTAMP:20260426T010610
CREATED:20260106T030629Z
LAST-MODIFIED:20260305T032754Z
UID:10014064-1772908200-1772919000@eastsleagues.com.au
SUMMARY:Greg Berriman
DESCRIPTION:The Lounge
URL:https://eastsleagues.com.au/event/greg-berriman-3/
CATEGORIES:Live Music
ATTACH;FMTTYPE=image/jpeg:https://eastsleagues.com.au/wp-content/uploads/2025/06/Greg-Berriman.jpg
END:VEVENT
BEGIN:VEVENT
DTSTART;TZID=Australia/Brisbane:20260308T173000
DTEND;TZID=Australia/Brisbane:20260308T203000
DTSTAMP:20260426T010610
CREATED:20200824T223801Z
LAST-MODIFIED:20230901T021600Z
UID:10009278-1772991000-1773001800@eastsleagues.com.au
SUMMARY:SUNDAY CARVERY NIGHT
DESCRIPTION:
URL:https://eastsleagues.com.au/event/sunday-carvery-night/2026-03-08/
CATEGORIES:Food Promotions
ATTACH;FMTTYPE=image/jpeg:https://eastsleagues.com.au/wp-content/uploads/2020/08/istockphoto-157582696-612x612-1.jpg
END:VEVENT
END:VCALENDAR