BEGIN:VCALENDAR
VERSION:2.0
PRODID:-//Easts Leagues Club - ECPv6.15.20//NONSGML v1.0//EN
CALSCALE:GREGORIAN
METHOD:PUBLISH
X-ORIGINAL-URL:https://eastsleagues.com.au
X-WR-CALDESC:Events for Easts Leagues Club
REFRESH-INTERVAL;VALUE=DURATION:PT1H
X-Robots-Tag:noindex
X-PUBLISHED-TTL:PT1H
BEGIN:VTIMEZONE
TZID:Australia/Brisbane
BEGIN:STANDARD
TZOFFSETFROM:+1000
TZOFFSETTO:+1000
TZNAME:AEST
DTSTART:20250101T000000
END:STANDARD
END:VTIMEZONE
BEGIN:VEVENT
DTSTART;TZID=Australia/Brisbane:20260316T103000
DTEND;TZID=Australia/Brisbane:20260316T123000
DTSTAMP:20260424T094802
CREATED:20260108T050646Z
LAST-MODIFIED:20260108T050646Z
UID:10014103-1773657000-1773664200@eastsleagues.com.au
SUMMARY:Rose Powell
DESCRIPTION:The Lounge
URL:https://eastsleagues.com.au/event/rose-powell-2/
CATEGORIES:Live Music
ATTACH;FMTTYPE=image/png:https://eastsleagues.com.au/wp-content/uploads/2025/07/1.png
END:VEVENT
BEGIN:VEVENT
DTSTART;TZID=Australia/Brisbane:20260316T173000
DTEND;TZID=Australia/Brisbane:20260316T203000
DTSTAMP:20260424T094802
CREATED:20260309T064903Z
LAST-MODIFIED:20260309T064903Z
UID:10014945-1773682200-1773693000@eastsleagues.com.au
SUMMARY:Kids Eat FREE Monday Nights
DESCRIPTION:
URL:https://eastsleagues.com.au/event/kids-eat-free-monday-nights/2026-03-16/
CATEGORIES:Food Promotions
ATTACH;FMTTYPE=image/png:https://eastsleagues.com.au/wp-content/uploads/2026/03/Kids-eat-free-ARTWORK-Facebook-Post.png
END:VEVENT
BEGIN:VEVENT
DTSTART;TZID=Australia/Brisbane:20260317T173000
DTEND;TZID=Australia/Brisbane:20260317T203000
DTSTAMP:20260424T094802
CREATED:20250411T073658Z
LAST-MODIFIED:20250411T074036Z
UID:10013353-1773768600-1773779400@eastsleagues.com.au
SUMMARY:Tuesday Night Pizza Palooza
DESCRIPTION:Every Tuesday Night in the Brasserie! \nAvailable from 5:30pm – 8:30pm \n\n2 Pizzas & a mixed salad for $35 (Members price)\n1 Pizza for $17.50 (Members price)\n\nGluten free options + $4.00
URL:https://eastsleagues.com.au/event/tuesday-night-pizza-palooza/2026-03-17/
CATEGORIES:Food Promotions
ATTACH;FMTTYPE=image/jpeg:https://eastsleagues.com.au/wp-content/uploads/2025/04/Easts-Tuesday-Pizza-Night_POS.jpg
END:VEVENT
BEGIN:VEVENT
DTSTART;TZID=Australia/Brisbane:20260317T190000
DTEND;TZID=Australia/Brisbane:20260317T210000
DTSTAMP:20260424T094802
CREATED:20241210T045513Z
LAST-MODIFIED:20260105T010435Z
UID:10013795-1773774000-1773781200@eastsleagues.com.au
SUMMARY:Tuesday Trivia
DESCRIPTION:
URL:https://eastsleagues.com.au/event/tuesday-trivia-2/2026-03-17/
CATEGORIES:Entertainment
ATTACH;FMTTYPE=image/png:https://eastsleagues.com.au/wp-content/uploads/2024/03/The-Cross-Bar-Tuesday-Trivia-Night_1920x1080.png
END:VEVENT
BEGIN:VEVENT
DTSTART;TZID=Australia/Brisbane:20260318T173000
DTEND;TZID=Australia/Brisbane:20260318T203000
DTSTAMP:20260424T094802
CREATED:20230831T010700Z
LAST-MODIFIED:20250414T073925Z
UID:10012857-1773855000-1773865800@eastsleagues.com.au
SUMMARY:Rib Night
DESCRIPTION:Every Wednesday in the Brasserie! \n$18.90 – Bog Ribs Special served with chips\, corn on the cab on coleslaw \n$43.90 – Two Meal Special with beer\, wine or soft drink
URL:https://eastsleagues.com.au/event/rib-night/2026-03-18/
CATEGORIES:Food Promotions
ATTACH;FMTTYPE=image/png:https://eastsleagues.com.au/wp-content/uploads/2022/03/Wednesday-Rib-Night-1.png
END:VEVENT
BEGIN:VEVENT
DTSTART;TZID=Australia/Brisbane:20260319T173000
DTEND;TZID=Australia/Brisbane:20260319T203000
DTSTAMP:20260424T094802
CREATED:20230831T011113Z
LAST-MODIFIED:20250414T074059Z
UID:10013099-1773941400-1773952200@eastsleagues.com.au
SUMMARY:Parmy Night
DESCRIPTION:Every Thursday in the Brasserie! \nAll served with a side of fries & garden salad. Available form 5:30pm – 8:30pm \n\n$16.50 Classic Chicken Schnitzel \n$17.90 Chicken Parmi\n$18.90 Mexican Parmi (Topped with Tomato Salsa\, Ham\, Cheese & Jalapenos)\n$18.90 BBQ Parmi (Topped with Onion rings & BBQ Sauce)\n\nNon members add $3
URL:https://eastsleagues.com.au/event/parmy-night/2026-03-19/
CATEGORIES:Food Promotions
ATTACH;FMTTYPE=image/png:https://eastsleagues.com.au/wp-content/uploads/2020/09/Thurs-Parmi-Night-1.png
END:VEVENT
BEGIN:VEVENT
DTSTART;TZID=Australia/Brisbane:20260320T190000
DTEND;TZID=Australia/Brisbane:20260320T213000
DTSTAMP:20260424T094802
CREATED:20260106T031731Z
LAST-MODIFIED:20260313T032339Z
UID:10014070-1774033200-1774042200@eastsleagues.com.au
SUMMARY:The RocknRollaBillys BAND
DESCRIPTION:The Lounge
URL:https://eastsleagues.com.au/event/the-rocknrollabilly-band/
CATEGORIES:Live Music
ATTACH;FMTTYPE=image/jpeg:https://eastsleagues.com.au/wp-content/uploads/2026/01/RockNRollaBillys-Band-Brisbane.jpg
END:VEVENT
BEGIN:VEVENT
DTSTART;TZID=Australia/Brisbane:20260321T183000
DTEND;TZID=Australia/Brisbane:20260321T213000
DTSTAMP:20260424T094802
CREATED:20260106T032048Z
LAST-MODIFIED:20260305T033411Z
UID:10014071-1774117800-1774128600@eastsleagues.com.au
SUMMARY:Ryan Nak
DESCRIPTION:The Lounge
URL:https://eastsleagues.com.au/event/ryan-nak-3/
CATEGORIES:Live Music
ATTACH;FMTTYPE=image/avif:https://eastsleagues.com.au/wp-content/uploads/2025/06/4ca241a6-adbf-4ee8-b8fe-8f9041000597.avif
END:VEVENT
BEGIN:VEVENT
DTSTART;TZID=Australia/Brisbane:20260322T173000
DTEND;TZID=Australia/Brisbane:20260322T203000
DTSTAMP:20260424T094802
CREATED:20200824T223801Z
LAST-MODIFIED:20230901T021600Z
UID:10012308-1774200600-1774211400@eastsleagues.com.au
SUMMARY:SUNDAY CARVERY NIGHT
DESCRIPTION:
URL:https://eastsleagues.com.au/event/sunday-carvery-night/2026-03-22/
CATEGORIES:Food Promotions
ATTACH;FMTTYPE=image/jpeg:https://eastsleagues.com.au/wp-content/uploads/2020/08/istockphoto-157582696-612x612-1.jpg
END:VEVENT
END:VCALENDAR