BEGIN:VCALENDAR
VERSION:2.0
PRODID:-//Easts Leagues Club - ECPv6.15.20//NONSGML v1.0//EN
CALSCALE:GREGORIAN
METHOD:PUBLISH
X-ORIGINAL-URL:https://eastsleagues.com.au
X-WR-CALDESC:Events for Easts Leagues Club
REFRESH-INTERVAL;VALUE=DURATION:PT1H
X-Robots-Tag:noindex
X-PUBLISHED-TTL:PT1H
BEGIN:VTIMEZONE
TZID:Australia/Brisbane
BEGIN:STANDARD
TZOFFSETFROM:+1000
TZOFFSETTO:+1000
TZNAME:AEST
DTSTART:20250101T000000
END:STANDARD
END:VTIMEZONE
BEGIN:VEVENT
DTSTART;TZID=Australia/Brisbane:20260323T103000
DTEND;TZID=Australia/Brisbane:20260323T123000
DTSTAMP:20260424T094057
CREATED:20260108T050934Z
LAST-MODIFIED:20260108T050934Z
UID:10014104-1774261800-1774269000@eastsleagues.com.au
SUMMARY:Paully
DESCRIPTION:The Lounge
URL:https://eastsleagues.com.au/event/paully-2/
CATEGORIES:Live Music
ATTACH;FMTTYPE=image/webp:https://eastsleagues.com.au/wp-content/uploads/2026/01/paully-brisbane-soloist-wedding-singer-dj-1024x683-1.webp
END:VEVENT
BEGIN:VEVENT
DTSTART;TZID=Australia/Brisbane:20260323T173000
DTEND;TZID=Australia/Brisbane:20260323T203000
DTSTAMP:20260424T094057
CREATED:20260309T064903Z
LAST-MODIFIED:20260309T064903Z
UID:10014946-1774287000-1774297800@eastsleagues.com.au
SUMMARY:Kids Eat FREE Monday Nights
DESCRIPTION:
URL:https://eastsleagues.com.au/event/kids-eat-free-monday-nights/2026-03-23/
CATEGORIES:Food Promotions
ATTACH;FMTTYPE=image/png:https://eastsleagues.com.au/wp-content/uploads/2026/03/Kids-eat-free-ARTWORK-Facebook-Post.png
END:VEVENT
BEGIN:VEVENT
DTSTART;TZID=Australia/Brisbane:20260324T173000
DTEND;TZID=Australia/Brisbane:20260324T203000
DTSTAMP:20260424T094057
CREATED:20250411T073658Z
LAST-MODIFIED:20250411T074036Z
UID:10013354-1774373400-1774384200@eastsleagues.com.au
SUMMARY:Tuesday Night Pizza Palooza
DESCRIPTION:Every Tuesday Night in the Brasserie! \nAvailable from 5:30pm – 8:30pm \n\n2 Pizzas & a mixed salad for $35 (Members price)\n1 Pizza for $17.50 (Members price)\n\nGluten free options + $4.00
URL:https://eastsleagues.com.au/event/tuesday-night-pizza-palooza/2026-03-24/
CATEGORIES:Food Promotions
ATTACH;FMTTYPE=image/jpeg:https://eastsleagues.com.au/wp-content/uploads/2025/04/Easts-Tuesday-Pizza-Night_POS.jpg
END:VEVENT
BEGIN:VEVENT
DTSTART;TZID=Australia/Brisbane:20260324T190000
DTEND;TZID=Australia/Brisbane:20260324T210000
DTSTAMP:20260424T094057
CREATED:20241210T045513Z
LAST-MODIFIED:20260105T010435Z
UID:10013796-1774378800-1774386000@eastsleagues.com.au
SUMMARY:Tuesday Trivia
DESCRIPTION:
URL:https://eastsleagues.com.au/event/tuesday-trivia-2/2026-03-24/
CATEGORIES:Entertainment
ATTACH;FMTTYPE=image/png:https://eastsleagues.com.au/wp-content/uploads/2024/03/The-Cross-Bar-Tuesday-Trivia-Night_1920x1080.png
END:VEVENT
BEGIN:VEVENT
DTSTART;TZID=Australia/Brisbane:20260325T173000
DTEND;TZID=Australia/Brisbane:20260325T203000
DTSTAMP:20260424T094057
CREATED:20230831T010700Z
LAST-MODIFIED:20250414T073925Z
UID:10012858-1774459800-1774470600@eastsleagues.com.au
SUMMARY:Rib Night
DESCRIPTION:Every Wednesday in the Brasserie! \n$18.90 – Bog Ribs Special served with chips\, corn on the cab on coleslaw \n$43.90 – Two Meal Special with beer\, wine or soft drink
URL:https://eastsleagues.com.au/event/rib-night/2026-03-25/
CATEGORIES:Food Promotions
ATTACH;FMTTYPE=image/png:https://eastsleagues.com.au/wp-content/uploads/2022/03/Wednesday-Rib-Night-1.png
END:VEVENT
BEGIN:VEVENT
DTSTART;TZID=Australia/Brisbane:20260326T173000
DTEND;TZID=Australia/Brisbane:20260326T203000
DTSTAMP:20260424T094057
CREATED:20230831T011113Z
LAST-MODIFIED:20250414T074059Z
UID:10013100-1774546200-1774557000@eastsleagues.com.au
SUMMARY:Parmy Night
DESCRIPTION:Every Thursday in the Brasserie! \nAll served with a side of fries & garden salad. Available form 5:30pm – 8:30pm \n\n$16.50 Classic Chicken Schnitzel \n$17.90 Chicken Parmi\n$18.90 Mexican Parmi (Topped with Tomato Salsa\, Ham\, Cheese & Jalapenos)\n$18.90 BBQ Parmi (Topped with Onion rings & BBQ Sauce)\n\nNon members add $3
URL:https://eastsleagues.com.au/event/parmy-night/2026-03-26/
CATEGORIES:Food Promotions
ATTACH;FMTTYPE=image/png:https://eastsleagues.com.au/wp-content/uploads/2020/09/Thurs-Parmi-Night-1.png
END:VEVENT
BEGIN:VEVENT
DTSTART;TZID=Australia/Brisbane:20260326T200000
DTEND;TZID=Australia/Brisbane:20260326T203000
DTSTAMP:20260424T094057
CREATED:20260105T010154Z
LAST-MODIFIED:20260105T010154Z
UID:10013725-1774555200-1774557000@eastsleagues.com.au
SUMMARY:Members Birthday Draw
DESCRIPTION:Swipe between 5.00pm – 8.00pm for your birthday entry ticket.\n8.15pm – $500 Cash\n8.30pm – $500 Cash
URL:https://eastsleagues.com.au/event/december-birthday-draw-2/2026-03-26/
CATEGORIES:Promotions
ATTACH;FMTTYPE=image/jpeg:https://eastsleagues.com.au/wp-content/uploads/2023/05/Monthly-scaled.jpg
END:VEVENT
BEGIN:VEVENT
DTSTART;TZID=Australia/Brisbane:20260327T183000
DTEND;TZID=Australia/Brisbane:20260327T213000
DTSTAMP:20260424T094057
CREATED:20260106T032910Z
LAST-MODIFIED:20260305T033448Z
UID:10014072-1774636200-1774647000@eastsleagues.com.au
SUMMARY:Emma Jordyn
DESCRIPTION:The Lounge
URL:https://eastsleagues.com.au/event/emma-jordyn-2/
CATEGORIES:Live Music
ATTACH;FMTTYPE=image/jpeg:https://eastsleagues.com.au/wp-content/uploads/2026/01/438222425_810190497812789_636032499384762921_n.jpg
END:VEVENT
BEGIN:VEVENT
DTSTART;TZID=Australia/Brisbane:20260328T183000
DTEND;TZID=Australia/Brisbane:20260328T213000
DTSTAMP:20260424T094057
CREATED:20260106T033001Z
LAST-MODIFIED:20260305T033455Z
UID:10014073-1774722600-1774733400@eastsleagues.com.au
SUMMARY:Nik Phillips
DESCRIPTION:The Lounge
URL:https://eastsleagues.com.au/event/nik-phillips-5/
CATEGORIES:Live Music
ATTACH;FMTTYPE=image/jpeg:https://eastsleagues.com.au/wp-content/uploads/2023/09/Nik-Phillips.jpg
END:VEVENT
BEGIN:VEVENT
DTSTART;TZID=Australia/Brisbane:20260329T173000
DTEND;TZID=Australia/Brisbane:20260329T203000
DTSTAMP:20260424T094057
CREATED:20200824T223801Z
LAST-MODIFIED:20230901T021600Z
UID:10012309-1774805400-1774816200@eastsleagues.com.au
SUMMARY:SUNDAY CARVERY NIGHT
DESCRIPTION:
URL:https://eastsleagues.com.au/event/sunday-carvery-night/2026-03-29/
CATEGORIES:Food Promotions
ATTACH;FMTTYPE=image/jpeg:https://eastsleagues.com.au/wp-content/uploads/2020/08/istockphoto-157582696-612x612-1.jpg
END:VEVENT
END:VCALENDAR