BEGIN:VCALENDAR
VERSION:2.0
PRODID:-//Easts Leagues Club - ECPv6.15.20//NONSGML v1.0//EN
CALSCALE:GREGORIAN
METHOD:PUBLISH
X-ORIGINAL-URL:https://eastsleagues.com.au
X-WR-CALDESC:Events for Easts Leagues Club
REFRESH-INTERVAL;VALUE=DURATION:PT1H
X-Robots-Tag:noindex
X-PUBLISHED-TTL:PT1H
BEGIN:VTIMEZONE
TZID:Australia/Brisbane
BEGIN:STANDARD
TZOFFSETFROM:+1000
TZOFFSETTO:+1000
TZNAME:AEST
DTSTART:20250101T000000
END:STANDARD
END:VTIMEZONE
BEGIN:VEVENT
DTSTART;TZID=Australia/Brisbane:20260406T103000
DTEND;TZID=Australia/Brisbane:20260406T123000
DTSTAMP:20260422T173138
CREATED:20260327T004240Z
LAST-MODIFIED:20260327T004240Z
UID:10015217-1775471400-1775478600@eastsleagues.com.au
SUMMARY:Morning Melodies - Toby Tyler
DESCRIPTION:The Lounge
URL:https://eastsleagues.com.au/event/morning-melodies-toby-tyler-2/
CATEGORIES:Live Music
ATTACH;FMTTYPE=image/png:https://eastsleagues.com.au/wp-content/uploads/2025/07/3.png
END:VEVENT
BEGIN:VEVENT
DTSTART;TZID=Australia/Brisbane:20260406T173000
DTEND;TZID=Australia/Brisbane:20260406T203000
DTSTAMP:20260422T173138
CREATED:20260309T064903Z
LAST-MODIFIED:20260309T064903Z
UID:10014948-1775496600-1775507400@eastsleagues.com.au
SUMMARY:Kids Eat FREE Monday Nights
DESCRIPTION:
URL:https://eastsleagues.com.au/event/kids-eat-free-monday-nights/2026-04-06/
CATEGORIES:Food Promotions
ATTACH;FMTTYPE=image/png:https://eastsleagues.com.au/wp-content/uploads/2026/03/Kids-eat-free-ARTWORK-Facebook-Post.png
END:VEVENT
BEGIN:VEVENT
DTSTART;TZID=Australia/Brisbane:20260407T173000
DTEND;TZID=Australia/Brisbane:20260407T203000
DTSTAMP:20260422T173138
CREATED:20250411T073658Z
LAST-MODIFIED:20250411T074036Z
UID:10013356-1775583000-1775593800@eastsleagues.com.au
SUMMARY:Tuesday Night Pizza Palooza
DESCRIPTION:Every Tuesday Night in the Brasserie! \nAvailable from 5:30pm – 8:30pm \n\n2 Pizzas & a mixed salad for $35 (Members price)\n1 Pizza for $17.50 (Members price)\n\nGluten free options + $4.00
URL:https://eastsleagues.com.au/event/tuesday-night-pizza-palooza/2026-04-07/
CATEGORIES:Food Promotions
ATTACH;FMTTYPE=image/jpeg:https://eastsleagues.com.au/wp-content/uploads/2025/04/Easts-Tuesday-Pizza-Night_POS.jpg
END:VEVENT
BEGIN:VEVENT
DTSTART;TZID=Australia/Brisbane:20260407T190000
DTEND;TZID=Australia/Brisbane:20260407T210000
DTSTAMP:20260422T173138
CREATED:20241210T045513Z
LAST-MODIFIED:20260105T010435Z
UID:10013798-1775588400-1775595600@eastsleagues.com.au
SUMMARY:Tuesday Trivia
DESCRIPTION:
URL:https://eastsleagues.com.au/event/tuesday-trivia-2/2026-04-07/
CATEGORIES:Entertainment
ATTACH;FMTTYPE=image/png:https://eastsleagues.com.au/wp-content/uploads/2024/03/The-Cross-Bar-Tuesday-Trivia-Night_1920x1080.png
END:VEVENT
BEGIN:VEVENT
DTSTART;TZID=Australia/Brisbane:20260408T173000
DTEND;TZID=Australia/Brisbane:20260408T203000
DTSTAMP:20260422T173138
CREATED:20230831T010700Z
LAST-MODIFIED:20250414T073925Z
UID:10012860-1775669400-1775680200@eastsleagues.com.au
SUMMARY:Rib Night
DESCRIPTION:Every Wednesday in the Brasserie! \n$18.90 – Bog Ribs Special served with chips\, corn on the cab on coleslaw \n$43.90 – Two Meal Special with beer\, wine or soft drink
URL:https://eastsleagues.com.au/event/rib-night/2026-04-08/
CATEGORIES:Food Promotions
ATTACH;FMTTYPE=image/png:https://eastsleagues.com.au/wp-content/uploads/2022/03/Wednesday-Rib-Night-1.png
END:VEVENT
BEGIN:VEVENT
DTSTART;TZID=Australia/Brisbane:20260409T173000
DTEND;TZID=Australia/Brisbane:20260409T203000
DTSTAMP:20260422T173138
CREATED:20230831T011113Z
LAST-MODIFIED:20250414T074059Z
UID:10013102-1775755800-1775766600@eastsleagues.com.au
SUMMARY:Parmy Night
DESCRIPTION:Every Thursday in the Brasserie! \nAll served with a side of fries & garden salad. Available form 5:30pm – 8:30pm \n\n$16.50 Classic Chicken Schnitzel \n$17.90 Chicken Parmi\n$18.90 Mexican Parmi (Topped with Tomato Salsa\, Ham\, Cheese & Jalapenos)\n$18.90 BBQ Parmi (Topped with Onion rings & BBQ Sauce)\n\nNon members add $3
URL:https://eastsleagues.com.au/event/parmy-night/2026-04-09/
CATEGORIES:Food Promotions
ATTACH;FMTTYPE=image/png:https://eastsleagues.com.au/wp-content/uploads/2020/09/Thurs-Parmi-Night-1.png
END:VEVENT
BEGIN:VEVENT
DTSTART;TZID=Australia/Brisbane:20260410T183000
DTEND;TZID=Australia/Brisbane:20260410T213000
DTSTAMP:20260422T173138
CREATED:20260106T033423Z
LAST-MODIFIED:20260305T033553Z
UID:10014075-1775845800-1775856600@eastsleagues.com.au
SUMMARY:Nik Phillips
DESCRIPTION:The Lounge
URL:https://eastsleagues.com.au/event/nik-phillips-6/
CATEGORIES:Live Music
ATTACH;FMTTYPE=image/jpeg:https://eastsleagues.com.au/wp-content/uploads/2023/09/Nik-Phillips.jpg
END:VEVENT
BEGIN:VEVENT
DTSTART;TZID=Australia/Brisbane:20260411T183000
DTEND;TZID=Australia/Brisbane:20260411T213000
DTSTAMP:20260422T173138
CREATED:20260106T033513Z
LAST-MODIFIED:20260305T033615Z
UID:10014076-1775932200-1775943000@eastsleagues.com.au
SUMMARY:Tiffany Grace
DESCRIPTION:The Lounge
URL:https://eastsleagues.com.au/event/tiffany-grace-3/
CATEGORIES:Live Music
ATTACH;FMTTYPE=image/jpeg:https://eastsleagues.com.au/wp-content/uploads/2026/01/Tiff-Grace-Headshot_edited.jpg
END:VEVENT
BEGIN:VEVENT
DTSTART;TZID=Australia/Brisbane:20260412T173000
DTEND;TZID=Australia/Brisbane:20260412T203000
DTSTAMP:20260422T173138
CREATED:20200824T223801Z
LAST-MODIFIED:20230901T021600Z
UID:10012311-1776015000-1776025800@eastsleagues.com.au
SUMMARY:SUNDAY CARVERY NIGHT
DESCRIPTION:
URL:https://eastsleagues.com.au/event/sunday-carvery-night/2026-04-12/
CATEGORIES:Food Promotions
ATTACH;FMTTYPE=image/jpeg:https://eastsleagues.com.au/wp-content/uploads/2020/08/istockphoto-157582696-612x612-1.jpg
END:VEVENT
END:VCALENDAR