BEGIN:VCALENDAR
VERSION:2.0
PRODID:-//Easts Leagues Club - ECPv6.15.20//NONSGML v1.0//EN
CALSCALE:GREGORIAN
METHOD:PUBLISH
X-WR-CALNAME:Easts Leagues Club
X-ORIGINAL-URL:https://eastsleagues.com.au
X-WR-CALDESC:Events for Easts Leagues Club
REFRESH-INTERVAL;VALUE=DURATION:PT1H
X-Robots-Tag:noindex
X-PUBLISHED-TTL:PT1H
BEGIN:VTIMEZONE
TZID:Australia/Brisbane
BEGIN:STANDARD
TZOFFSETFROM:+1000
TZOFFSETTO:+1000
TZNAME:AEST
DTSTART:20250101T000000
END:STANDARD
END:VTIMEZONE
BEGIN:VEVENT
DTSTART;TZID=Australia/Brisbane:20260413T103000
DTEND;TZID=Australia/Brisbane:20260413T123000
DTSTAMP:20260424T065141
CREATED:20260327T004517Z
LAST-MODIFIED:20260327T004517Z
UID:10015218-1776076200-1776083400@eastsleagues.com.au
SUMMARY:Morning Melodies - Michael Whitmore
DESCRIPTION:The Lounge
URL:https://eastsleagues.com.au/event/morning-melodies-michael-whitmore/
CATEGORIES:Live Music
ATTACH;FMTTYPE=image/png:https://eastsleagues.com.au/wp-content/uploads/2025/07/2.png
END:VEVENT
BEGIN:VEVENT
DTSTART;TZID=Australia/Brisbane:20260413T173000
DTEND;TZID=Australia/Brisbane:20260413T203000
DTSTAMP:20260424T065141
CREATED:20260309T064903Z
LAST-MODIFIED:20260309T064903Z
UID:10014949-1776101400-1776112200@eastsleagues.com.au
SUMMARY:Kids Eat FREE Monday Nights
DESCRIPTION:
URL:https://eastsleagues.com.au/event/kids-eat-free-monday-nights/2026-04-13/
CATEGORIES:Food Promotions
ATTACH;FMTTYPE=image/png:https://eastsleagues.com.au/wp-content/uploads/2026/03/Kids-eat-free-ARTWORK-Facebook-Post.png
END:VEVENT
BEGIN:VEVENT
DTSTART;TZID=Australia/Brisbane:20260414T173000
DTEND;TZID=Australia/Brisbane:20260414T203000
DTSTAMP:20260424T065141
CREATED:20250411T073658Z
LAST-MODIFIED:20250411T074036Z
UID:10013357-1776187800-1776198600@eastsleagues.com.au
SUMMARY:Tuesday Night Pizza Palooza
DESCRIPTION:Every Tuesday Night in the Brasserie! \nAvailable from 5:30pm – 8:30pm \n\n2 Pizzas & a mixed salad for $35 (Members price)\n1 Pizza for $17.50 (Members price)\n\nGluten free options + $4.00
URL:https://eastsleagues.com.au/event/tuesday-night-pizza-palooza/2026-04-14/
CATEGORIES:Food Promotions
ATTACH;FMTTYPE=image/jpeg:https://eastsleagues.com.au/wp-content/uploads/2025/04/Easts-Tuesday-Pizza-Night_POS.jpg
END:VEVENT
BEGIN:VEVENT
DTSTART;TZID=Australia/Brisbane:20260414T190000
DTEND;TZID=Australia/Brisbane:20260414T210000
DTSTAMP:20260424T065141
CREATED:20241210T045513Z
LAST-MODIFIED:20260105T010435Z
UID:10013799-1776193200-1776200400@eastsleagues.com.au
SUMMARY:Tuesday Trivia
DESCRIPTION:
URL:https://eastsleagues.com.au/event/tuesday-trivia-2/2026-04-14/
CATEGORIES:Entertainment
ATTACH;FMTTYPE=image/png:https://eastsleagues.com.au/wp-content/uploads/2024/03/The-Cross-Bar-Tuesday-Trivia-Night_1920x1080.png
END:VEVENT
BEGIN:VEVENT
DTSTART;TZID=Australia/Brisbane:20260415T173000
DTEND;TZID=Australia/Brisbane:20260415T203000
DTSTAMP:20260424T065141
CREATED:20230831T010700Z
LAST-MODIFIED:20250414T073925Z
UID:10012861-1776274200-1776285000@eastsleagues.com.au
SUMMARY:Rib Night
DESCRIPTION:Every Wednesday in the Brasserie! \n$18.90 – Bog Ribs Special served with chips\, corn on the cab on coleslaw \n$43.90 – Two Meal Special with beer\, wine or soft drink
URL:https://eastsleagues.com.au/event/rib-night/2026-04-15/
CATEGORIES:Food Promotions
ATTACH;FMTTYPE=image/png:https://eastsleagues.com.au/wp-content/uploads/2022/03/Wednesday-Rib-Night-1.png
END:VEVENT
BEGIN:VEVENT
DTSTART;TZID=Australia/Brisbane:20260416T173000
DTEND;TZID=Australia/Brisbane:20260416T203000
DTSTAMP:20260424T065141
CREATED:20230831T011113Z
LAST-MODIFIED:20250414T074059Z
UID:10013103-1776360600-1776371400@eastsleagues.com.au
SUMMARY:Parmy Night
DESCRIPTION:Every Thursday in the Brasserie! \nAll served with a side of fries & garden salad. Available form 5:30pm – 8:30pm \n\n$16.50 Classic Chicken Schnitzel \n$17.90 Chicken Parmi\n$18.90 Mexican Parmi (Topped with Tomato Salsa\, Ham\, Cheese & Jalapenos)\n$18.90 BBQ Parmi (Topped with Onion rings & BBQ Sauce)\n\nNon members add $3
URL:https://eastsleagues.com.au/event/parmy-night/2026-04-16/
CATEGORIES:Food Promotions
ATTACH;FMTTYPE=image/png:https://eastsleagues.com.au/wp-content/uploads/2020/09/Thurs-Parmi-Night-1.png
END:VEVENT
BEGIN:VEVENT
DTSTART;TZID=Australia/Brisbane:20260417T190000
DTEND;TZID=Australia/Brisbane:20260417T213000
DTSTAMP:20260424T065141
CREATED:20260106T033549Z
LAST-MODIFIED:20260313T032512Z
UID:10014077-1776452400-1776461400@eastsleagues.com.au
SUMMARY:Retro Room Rock Band
DESCRIPTION:The Lounge
URL:https://eastsleagues.com.au/event/retro-room-rock-band/
CATEGORIES:Live Music
ATTACH;FMTTYPE=image/jpeg:https://eastsleagues.com.au/wp-content/uploads/2026/01/476611831_548827644844798_3385342472157491797_n.jpg
END:VEVENT
BEGIN:VEVENT
DTSTART;TZID=Australia/Brisbane:20260418T183000
DTEND;TZID=Australia/Brisbane:20260418T213000
DTSTAMP:20260424T065141
CREATED:20260106T033721Z
LAST-MODIFIED:20260305T033645Z
UID:10014078-1776537000-1776547800@eastsleagues.com.au
SUMMARY:Ben Suptup
DESCRIPTION:The Lounge
URL:https://eastsleagues.com.au/event/ben-suptup-4/
CATEGORIES:Live Music
ATTACH;FMTTYPE=image/jpeg:https://eastsleagues.com.au/wp-content/uploads/2026/01/172542224_104232781796610_2239859452938874319_n.jpg
END:VEVENT
BEGIN:VEVENT
DTSTART;TZID=Australia/Brisbane:20260419T173000
DTEND;TZID=Australia/Brisbane:20260419T203000
DTSTAMP:20260424T065141
CREATED:20200824T223801Z
LAST-MODIFIED:20230901T021600Z
UID:10012312-1776619800-1776630600@eastsleagues.com.au
SUMMARY:SUNDAY CARVERY NIGHT
DESCRIPTION:
URL:https://eastsleagues.com.au/event/sunday-carvery-night/2026-04-19/
CATEGORIES:Food Promotions
ATTACH;FMTTYPE=image/jpeg:https://eastsleagues.com.au/wp-content/uploads/2020/08/istockphoto-157582696-612x612-1.jpg
END:VEVENT
END:VCALENDAR