BEGIN:VCALENDAR
VERSION:2.0
PRODID:-//Easts Leagues Club - ECPv6.15.20//NONSGML v1.0//EN
CALSCALE:GREGORIAN
METHOD:PUBLISH
X-ORIGINAL-URL:https://eastsleagues.com.au
X-WR-CALDESC:Events for Easts Leagues Club
REFRESH-INTERVAL;VALUE=DURATION:PT1H
X-Robots-Tag:noindex
X-PUBLISHED-TTL:PT1H
BEGIN:VTIMEZONE
TZID:Australia/Brisbane
BEGIN:STANDARD
TZOFFSETFROM:+1000
TZOFFSETTO:+1000
TZNAME:AEST
DTSTART:20250101T000000
END:STANDARD
END:VTIMEZONE
BEGIN:VEVENT
DTSTART;TZID=Australia/Brisbane:20260427T103000
DTEND;TZID=Australia/Brisbane:20260427T123000
DTSTAMP:20260425T235732
CREATED:20260327T004736Z
LAST-MODIFIED:20260327T004736Z
UID:10015220-1777285800-1777293000@eastsleagues.com.au
SUMMARY:Morning Melodies - Jared Alexander
DESCRIPTION:The Lounge
URL:https://eastsleagues.com.au/event/morning-melodies-jared-alexander/
CATEGORIES:Live Music
ATTACH;FMTTYPE=image/png:https://eastsleagues.com.au/wp-content/uploads/2025/07/4.png
END:VEVENT
BEGIN:VEVENT
DTSTART;TZID=Australia/Brisbane:20260427T173000
DTEND;TZID=Australia/Brisbane:20260427T203000
DTSTAMP:20260425T235732
CREATED:20260309T064903Z
LAST-MODIFIED:20260309T064903Z
UID:10014951-1777311000-1777321800@eastsleagues.com.au
SUMMARY:Kids Eat FREE Monday Nights
DESCRIPTION:
URL:https://eastsleagues.com.au/event/kids-eat-free-monday-nights/2026-04-27/
CATEGORIES:Food Promotions
ATTACH;FMTTYPE=image/png:https://eastsleagues.com.au/wp-content/uploads/2026/03/Kids-eat-free-ARTWORK-Facebook-Post.png
END:VEVENT
BEGIN:VEVENT
DTSTART;TZID=Australia/Brisbane:20260428T173000
DTEND;TZID=Australia/Brisbane:20260428T203000
DTSTAMP:20260425T235732
CREATED:20250411T073658Z
LAST-MODIFIED:20250411T074036Z
UID:10013359-1777397400-1777408200@eastsleagues.com.au
SUMMARY:Tuesday Night Pizza Palooza
DESCRIPTION:Every Tuesday Night in the Brasserie! \nAvailable from 5:30pm – 8:30pm \n\n2 Pizzas & a mixed salad for $35 (Members price)\n1 Pizza for $17.50 (Members price)\n\nGluten free options + $4.00
URL:https://eastsleagues.com.au/event/tuesday-night-pizza-palooza/2026-04-28/
CATEGORIES:Food Promotions
ATTACH;FMTTYPE=image/jpeg:https://eastsleagues.com.au/wp-content/uploads/2025/04/Easts-Tuesday-Pizza-Night_POS.jpg
END:VEVENT
BEGIN:VEVENT
DTSTART;TZID=Australia/Brisbane:20260428T190000
DTEND;TZID=Australia/Brisbane:20260428T210000
DTSTAMP:20260425T235732
CREATED:20241210T045513Z
LAST-MODIFIED:20260105T010435Z
UID:10013801-1777402800-1777410000@eastsleagues.com.au
SUMMARY:Tuesday Trivia
DESCRIPTION:
URL:https://eastsleagues.com.au/event/tuesday-trivia-2/2026-04-28/
CATEGORIES:Entertainment
ATTACH;FMTTYPE=image/png:https://eastsleagues.com.au/wp-content/uploads/2024/03/The-Cross-Bar-Tuesday-Trivia-Night_1920x1080.png
END:VEVENT
BEGIN:VEVENT
DTSTART;TZID=Australia/Brisbane:20260429T173000
DTEND;TZID=Australia/Brisbane:20260429T203000
DTSTAMP:20260425T235732
CREATED:20230831T010700Z
LAST-MODIFIED:20250414T073925Z
UID:10012863-1777483800-1777494600@eastsleagues.com.au
SUMMARY:Rib Night
DESCRIPTION:Every Wednesday in the Brasserie! \n$18.90 – Bog Ribs Special served with chips\, corn on the cab on coleslaw \n$43.90 – Two Meal Special with beer\, wine or soft drink
URL:https://eastsleagues.com.au/event/rib-night/2026-04-29/
CATEGORIES:Food Promotions
ATTACH;FMTTYPE=image/png:https://eastsleagues.com.au/wp-content/uploads/2022/03/Wednesday-Rib-Night-1.png
END:VEVENT
BEGIN:VEVENT
DTSTART;TZID=Australia/Brisbane:20260430T173000
DTEND;TZID=Australia/Brisbane:20260430T203000
DTSTAMP:20260425T235732
CREATED:20230831T011113Z
LAST-MODIFIED:20250414T074059Z
UID:10013105-1777570200-1777581000@eastsleagues.com.au
SUMMARY:Parmy Night
DESCRIPTION:Every Thursday in the Brasserie! \nAll served with a side of fries & garden salad. Available form 5:30pm – 8:30pm \n\n$16.50 Classic Chicken Schnitzel \n$17.90 Chicken Parmi\n$18.90 Mexican Parmi (Topped with Tomato Salsa\, Ham\, Cheese & Jalapenos)\n$18.90 BBQ Parmi (Topped with Onion rings & BBQ Sauce)\n\nNon members add $3
URL:https://eastsleagues.com.au/event/parmy-night/2026-04-30/
CATEGORIES:Food Promotions
ATTACH;FMTTYPE=image/png:https://eastsleagues.com.au/wp-content/uploads/2020/09/Thurs-Parmi-Night-1.png
END:VEVENT
BEGIN:VEVENT
DTSTART;TZID=Australia/Brisbane:20260430T200000
DTEND;TZID=Australia/Brisbane:20260430T203000
DTSTAMP:20260425T235732
CREATED:20260105T010154Z
LAST-MODIFIED:20260105T010154Z
UID:10013726-1777579200-1777581000@eastsleagues.com.au
SUMMARY:Members Birthday Draw
DESCRIPTION:Swipe between 5.00pm – 8.00pm for your birthday entry ticket.\n8.15pm – $500 Cash\n8.30pm – $500 Cash
URL:https://eastsleagues.com.au/event/december-birthday-draw-2/2026-04-30/
CATEGORIES:Promotions
ATTACH;FMTTYPE=image/jpeg:https://eastsleagues.com.au/wp-content/uploads/2023/05/Monthly-scaled.jpg
END:VEVENT
BEGIN:VEVENT
DTSTART;TZID=Australia/Brisbane:20260501T190000
DTEND;TZID=Australia/Brisbane:20260501T213000
DTSTAMP:20260425T235732
CREATED:20260106T034339Z
LAST-MODIFIED:20260313T032712Z
UID:10014081-1777662000-1777671000@eastsleagues.com.au
SUMMARY:Park Avenue JAZZ TRIO
DESCRIPTION:The Lounge
URL:https://eastsleagues.com.au/event/park-avenue-jazz-band/
CATEGORIES:Live Music
ATTACH;FMTTYPE=image/jpeg:https://eastsleagues.com.au/wp-content/uploads/2026/01/Act-03-Park-Avenue-Trio_Brisbane-wedding-band.jpg
END:VEVENT
BEGIN:VEVENT
DTSTART;TZID=Australia/Brisbane:20260502T183000
DTEND;TZID=Australia/Brisbane:20260502T213000
DTSTAMP:20260425T235732
CREATED:20260106T034530Z
LAST-MODIFIED:20260305T033754Z
UID:10014082-1777746600-1777757400@eastsleagues.com.au
SUMMARY:Millie Atlas
DESCRIPTION:The Lounge
URL:https://eastsleagues.com.au/event/millie-atlas-5/
CATEGORIES:Live Music
ATTACH;FMTTYPE=image/avif:https://eastsleagues.com.au/wp-content/uploads/2025/06/ecd70a7f-d7a3-4357-8193-714dae869ba6.avif
END:VEVENT
BEGIN:VEVENT
DTSTART;TZID=Australia/Brisbane:20260503T173000
DTEND;TZID=Australia/Brisbane:20260503T203000
DTSTAMP:20260425T235732
CREATED:20200824T223801Z
LAST-MODIFIED:20230901T021600Z
UID:10012314-1777829400-1777840200@eastsleagues.com.au
SUMMARY:SUNDAY CARVERY NIGHT
DESCRIPTION:
URL:https://eastsleagues.com.au/event/sunday-carvery-night/2026-05-03/
CATEGORIES:Food Promotions
ATTACH;FMTTYPE=image/jpeg:https://eastsleagues.com.au/wp-content/uploads/2020/08/istockphoto-157582696-612x612-1.jpg
END:VEVENT
END:VCALENDAR