BEGIN:VCALENDAR
VERSION:2.0
PRODID:-//Easts Leagues Club - ECPv6.15.20//NONSGML v1.0//EN
CALSCALE:GREGORIAN
METHOD:PUBLISH
X-WR-CALNAME:Easts Leagues Club
X-ORIGINAL-URL:https://eastsleagues.com.au
X-WR-CALDESC:Events for Easts Leagues Club
REFRESH-INTERVAL;VALUE=DURATION:PT1H
X-Robots-Tag:noindex
X-PUBLISHED-TTL:PT1H
BEGIN:VTIMEZONE
TZID:Australia/Brisbane
BEGIN:STANDARD
TZOFFSETFROM:+1000
TZOFFSETTO:+1000
TZNAME:AEST
DTSTART:20250101T000000
END:STANDARD
END:VTIMEZONE
BEGIN:VEVENT
DTSTART;TZID=Australia/Brisbane:20260420T103000
DTEND;TZID=Australia/Brisbane:20260420T123000
DTSTAMP:20260421T182727
CREATED:20260327T004613Z
LAST-MODIFIED:20260327T004613Z
UID:10015219-1776681000-1776688200@eastsleagues.com.au
SUMMARY:Morning Melodies - Rose Powell
DESCRIPTION:The Lounge
URL:https://eastsleagues.com.au/event/morning-melodies-rose-powell-2/
CATEGORIES:Live Music
ATTACH;FMTTYPE=image/png:https://eastsleagues.com.au/wp-content/uploads/2025/07/1.png
END:VEVENT
BEGIN:VEVENT
DTSTART;TZID=Australia/Brisbane:20260420T173000
DTEND;TZID=Australia/Brisbane:20260420T203000
DTSTAMP:20260421T182728
CREATED:20260309T064903Z
LAST-MODIFIED:20260309T064903Z
UID:10014950-1776706200-1776717000@eastsleagues.com.au
SUMMARY:Kids Eat FREE Monday Nights
DESCRIPTION:
URL:https://eastsleagues.com.au/event/kids-eat-free-monday-nights/2026-04-20/
CATEGORIES:Food Promotions
ATTACH;FMTTYPE=image/png:https://eastsleagues.com.au/wp-content/uploads/2026/03/Kids-eat-free-ARTWORK-Facebook-Post.png
END:VEVENT
BEGIN:VEVENT
DTSTART;TZID=Australia/Brisbane:20260421T173000
DTEND;TZID=Australia/Brisbane:20260421T203000
DTSTAMP:20260421T182728
CREATED:20250411T073658Z
LAST-MODIFIED:20250411T074036Z
UID:10013358-1776792600-1776803400@eastsleagues.com.au
SUMMARY:Tuesday Night Pizza Palooza
DESCRIPTION:Every Tuesday Night in the Brasserie! \nAvailable from 5:30pm – 8:30pm \n\n2 Pizzas & a mixed salad for $35 (Members price)\n1 Pizza for $17.50 (Members price)\n\nGluten free options + $4.00
URL:https://eastsleagues.com.au/event/tuesday-night-pizza-palooza/2026-04-21/
CATEGORIES:Food Promotions
ATTACH;FMTTYPE=image/jpeg:https://eastsleagues.com.au/wp-content/uploads/2025/04/Easts-Tuesday-Pizza-Night_POS.jpg
END:VEVENT
BEGIN:VEVENT
DTSTART;TZID=Australia/Brisbane:20260421T190000
DTEND;TZID=Australia/Brisbane:20260421T210000
DTSTAMP:20260421T182728
CREATED:20241210T045513Z
LAST-MODIFIED:20260105T010435Z
UID:10013800-1776798000-1776805200@eastsleagues.com.au
SUMMARY:Tuesday Trivia
DESCRIPTION:
URL:https://eastsleagues.com.au/event/tuesday-trivia-2/2026-04-21/
CATEGORIES:Entertainment
ATTACH;FMTTYPE=image/png:https://eastsleagues.com.au/wp-content/uploads/2024/03/The-Cross-Bar-Tuesday-Trivia-Night_1920x1080.png
END:VEVENT
BEGIN:VEVENT
DTSTART;TZID=Australia/Brisbane:20260422T173000
DTEND;TZID=Australia/Brisbane:20260422T203000
DTSTAMP:20260421T182728
CREATED:20230831T010700Z
LAST-MODIFIED:20250414T073925Z
UID:10012862-1776879000-1776889800@eastsleagues.com.au
SUMMARY:Rib Night
DESCRIPTION:Every Wednesday in the Brasserie! \n$18.90 – Bog Ribs Special served with chips\, corn on the cab on coleslaw \n$43.90 – Two Meal Special with beer\, wine or soft drink
URL:https://eastsleagues.com.au/event/rib-night/2026-04-22/
CATEGORIES:Food Promotions
ATTACH;FMTTYPE=image/png:https://eastsleagues.com.au/wp-content/uploads/2022/03/Wednesday-Rib-Night-1.png
END:VEVENT
BEGIN:VEVENT
DTSTART;TZID=Australia/Brisbane:20260423T173000
DTEND;TZID=Australia/Brisbane:20260423T203000
DTSTAMP:20260421T182728
CREATED:20230831T011113Z
LAST-MODIFIED:20250414T074059Z
UID:10013104-1776965400-1776976200@eastsleagues.com.au
SUMMARY:Parmy Night
DESCRIPTION:Every Thursday in the Brasserie! \nAll served with a side of fries & garden salad. Available form 5:30pm – 8:30pm \n\n$16.50 Classic Chicken Schnitzel \n$17.90 Chicken Parmi\n$18.90 Mexican Parmi (Topped with Tomato Salsa\, Ham\, Cheese & Jalapenos)\n$18.90 BBQ Parmi (Topped with Onion rings & BBQ Sauce)\n\nNon members add $3
URL:https://eastsleagues.com.au/event/parmy-night/2026-04-23/
CATEGORIES:Food Promotions
ATTACH;FMTTYPE=image/png:https://eastsleagues.com.au/wp-content/uploads/2020/09/Thurs-Parmi-Night-1.png
END:VEVENT
BEGIN:VEVENT
DTSTART;TZID=Australia/Brisbane:20260424T183000
DTEND;TZID=Australia/Brisbane:20260424T213000
DTSTAMP:20260421T182728
CREATED:20260106T033829Z
LAST-MODIFIED:20260305T033653Z
UID:10014079-1777055400-1777066200@eastsleagues.com.au
SUMMARY:Ben Dawson
DESCRIPTION:The Lounge
URL:https://eastsleagues.com.au/event/nik-phillips-7/
CATEGORIES:Live Music
ATTACH;FMTTYPE=image/jpeg:https://eastsleagues.com.au/wp-content/uploads/2026/01/Ben-Dawson.jpg
END:VEVENT
BEGIN:VEVENT
DTSTART;TZID=Australia/Brisbane:20260425T183000
DTEND;TZID=Australia/Brisbane:20260425T213000
DTSTAMP:20260421T182728
CREATED:20260106T033919Z
LAST-MODIFIED:20260305T033658Z
UID:10014080-1777141800-1777152600@eastsleagues.com.au
SUMMARY:Ryan Nak
DESCRIPTION:The Lounge
URL:https://eastsleagues.com.au/event/ryan-nak-4/
CATEGORIES:Live Music
ATTACH;FMTTYPE=image/avif:https://eastsleagues.com.au/wp-content/uploads/2025/06/4ca241a6-adbf-4ee8-b8fe-8f9041000597.avif
END:VEVENT
BEGIN:VEVENT
DTSTART;TZID=Australia/Brisbane:20260426T173000
DTEND;TZID=Australia/Brisbane:20260426T203000
DTSTAMP:20260421T182728
CREATED:20200824T223801Z
LAST-MODIFIED:20230901T021600Z
UID:10012313-1777224600-1777235400@eastsleagues.com.au
SUMMARY:SUNDAY CARVERY NIGHT
DESCRIPTION:
URL:https://eastsleagues.com.au/event/sunday-carvery-night/2026-04-26/
CATEGORIES:Food Promotions
ATTACH;FMTTYPE=image/jpeg:https://eastsleagues.com.au/wp-content/uploads/2020/08/istockphoto-157582696-612x612-1.jpg
END:VEVENT
END:VCALENDAR